BEGIN:VCALENDAR
VERSION:2.0
PRODID:-//Nonprofit Leadership Training - Incite Consulting Inc - ECPv6.15.10//NONSGML v1.0//EN
CALSCALE:GREGORIAN
METHOD:PUBLISH
X-WR-CALNAME:Nonprofit Leadership Training - Incite Consulting Inc
X-ORIGINAL-URL:https://inciteconsultinggroup.com
X-WR-CALDESC:Events for Nonprofit Leadership Training - Incite Consulting Inc
REFRESH-INTERVAL;VALUE=DURATION:PT1H
X-Robots-Tag:noindex
X-PUBLISHED-TTL:PT1H
BEGIN:VTIMEZONE
TZID:UTC
BEGIN:STANDARD
TZOFFSETFROM:+0000
TZOFFSETTO:+0000
TZNAME:UTC
DTSTART:20250101T000000
END:STANDARD
END:VTIMEZONE
BEGIN:VEVENT
DTSTART;TZID=UTC:20260303T090000
DTEND;TZID=UTC:20260303T094500
DTSTAMP:20260424T161037
CREATED:20251117T000040Z
LAST-MODIFIED:20251117T000040Z
UID:14332-1772528400-1772531100@inciteconsultinggroup.com
SUMMARY:Leveraging Skills You Don’t Have: Nonprofit Partnerships and Mergers - Virtual
DESCRIPTION:Description\nAs nonprofits navigate increasing demands with limited resources\, strategic partnerships and mergers are powerful tools for long-term sustainability. Whether you’re exploring a simple collaboration or considering a full merger\, understanding how to align missions\, cultures\, and capacities is key. In this webinar\, we’ll break down the spectrum of partnership models\, highlight how complementary skills can strengthen your organization\, and address the legal\, financial\, and operational considerations that matter most. You’ll leave with a clear roadmap for starting small\, assessing fit\, and building partnerships that expand your impact rather than your workload. \nDates: Tuesday\, March 3\, 2026  \nTimes: 9:00 AM PST  \nMore Info  |  Register
URL:https://inciteconsultinggroup.com/events/leveraging-skills-you-dont-have-nonprofit-partnerships-and-mergers-virtual/
CATEGORIES:Webinars
END:VEVENT
END:VCALENDAR