BEGIN:VCALENDAR
VERSION:2.0
PRODID:-//Nonprofit Leadership Training - Incite Consulting Inc - ECPv6.15.10//NONSGML v1.0//EN
CALSCALE:GREGORIAN
METHOD:PUBLISH
X-WR-CALNAME:Nonprofit Leadership Training - Incite Consulting Inc
X-ORIGINAL-URL:https://inciteconsultinggroup.com
X-WR-CALDESC:Events for Nonprofit Leadership Training - Incite Consulting Inc
REFRESH-INTERVAL;VALUE=DURATION:PT1H
X-Robots-Tag:noindex
X-PUBLISHED-TTL:PT1H
BEGIN:VTIMEZONE
TZID:UTC
BEGIN:STANDARD
TZOFFSETFROM:+0000
TZOFFSETTO:+0000
TZNAME:UTC
DTSTART:20240101T000000
END:STANDARD
END:VTIMEZONE
BEGIN:VTIMEZONE
TZID:America/Denver
BEGIN:DAYLIGHT
TZOFFSETFROM:-0700
TZOFFSETTO:-0600
TZNAME:MDT
DTSTART:20240310T090000
END:DAYLIGHT
BEGIN:STANDARD
TZOFFSETFROM:-0600
TZOFFSETTO:-0700
TZNAME:MST
DTSTART:20241103T080000
END:STANDARD
BEGIN:DAYLIGHT
TZOFFSETFROM:-0700
TZOFFSETTO:-0600
TZNAME:MDT
DTSTART:20250309T090000
END:DAYLIGHT
BEGIN:STANDARD
TZOFFSETFROM:-0600
TZOFFSETTO:-0700
TZNAME:MST
DTSTART:20251102T080000
END:STANDARD
BEGIN:DAYLIGHT
TZOFFSETFROM:-0700
TZOFFSETTO:-0600
TZNAME:MDT
DTSTART:20260308T090000
END:DAYLIGHT
BEGIN:STANDARD
TZOFFSETFROM:-0600
TZOFFSETTO:-0700
TZNAME:MST
DTSTART:20261101T080000
END:STANDARD
END:VTIMEZONE
BEGIN:VTIMEZONE
TZID:America/Los_Angeles
BEGIN:DAYLIGHT
TZOFFSETFROM:-0800
TZOFFSETTO:-0700
TZNAME:PDT
DTSTART:20240310T100000
END:DAYLIGHT
BEGIN:STANDARD
TZOFFSETFROM:-0700
TZOFFSETTO:-0800
TZNAME:PST
DTSTART:20241103T090000
END:STANDARD
BEGIN:DAYLIGHT
TZOFFSETFROM:-0800
TZOFFSETTO:-0700
TZNAME:PDT
DTSTART:20250309T100000
END:DAYLIGHT
BEGIN:STANDARD
TZOFFSETFROM:-0700
TZOFFSETTO:-0800
TZNAME:PST
DTSTART:20251102T090000
END:STANDARD
BEGIN:DAYLIGHT
TZOFFSETFROM:-0800
TZOFFSETTO:-0700
TZNAME:PDT
DTSTART:20260308T100000
END:DAYLIGHT
BEGIN:STANDARD
TZOFFSETFROM:-0700
TZOFFSETTO:-0800
TZNAME:PST
DTSTART:20261101T090000
END:STANDARD
END:VTIMEZONE
BEGIN:VEVENT
DTSTART;VALUE=DATE:20250626
DTEND;VALUE=DATE:20250627
DTSTAMP:20260420T035024
CREATED:20250314T081155Z
LAST-MODIFIED:20250507T013200Z
UID:12929-1750896000-1750982399@inciteconsultinggroup.com
SUMMARY:Board Governance Training for the Colorado Bioscience Association - Denver\, CO
DESCRIPTION:Board Governance Training for the Colorado Bioscience Association – Denver\, CO \nMore About Colorado Bioscience Association
URL:https://inciteconsultinggroup.com/events/board-governance-training-for-the-colorado-bioscience-association-denver-co/
CATEGORIES:Webinars
END:VEVENT
BEGIN:VEVENT
DTSTART;VALUE=DATE:20250711
DTEND;VALUE=DATE:20250712
DTSTAMP:20260420T035024
CREATED:20250602T220926Z
LAST-MODIFIED:20250602T233705Z
UID:13410-1752192000-1752278399@inciteconsultinggroup.com
SUMMARY:Arctic Rescue Board Education Session - Virtual
DESCRIPTION:
URL:https://inciteconsultinggroup.com/events/arctic-rescue-board-education-session-virtual/
CATEGORIES:Work Schedule
END:VEVENT
BEGIN:VEVENT
DTSTART;VALUE=DATE:20250726
DTEND;VALUE=DATE:20250727
DTSTAMP:20260420T035024
CREATED:20250710T124458Z
LAST-MODIFIED:20250710T124458Z
UID:13956-1753488000-1753574399@inciteconsultinggroup.com
SUMMARY:Snake River Community Clinic - board strategic planning session - Lewiston\, ID
DESCRIPTION:
URL:https://inciteconsultinggroup.com/events/snake-river-community-clinic-board-strategic-planning-session-lewiston-id/
CATEGORIES:Events
END:VEVENT
BEGIN:VEVENT
DTSTART;VALUE=DATE:20250814
DTEND;VALUE=DATE:20250815
DTSTAMP:20260420T035024
CREATED:20250602T221145Z
LAST-MODIFIED:20250602T221145Z
UID:13412-1755129600-1755215999@inciteconsultinggroup.com
SUMMARY:Bridger Bowl Ski Area Board Retreat Facilitation - Bozeman\, MT
DESCRIPTION:
URL:https://inciteconsultinggroup.com/events/bridger-bowl-ski-area-board-retreat-facilitation-bozeman-mt/
CATEGORIES:Work Schedule
END:VEVENT
BEGIN:VEVENT
DTSTART;VALUE=DATE:20250823
DTEND;VALUE=DATE:20250824
DTSTAMP:20260420T035024
CREATED:20250602T221251Z
LAST-MODIFIED:20250602T221251Z
UID:13414-1755907200-1755993599@inciteconsultinggroup.com
SUMMARY:Idaho Coalition for Safe Healthcare Strategic Planning - Boise\, ID
DESCRIPTION:
URL:https://inciteconsultinggroup.com/events/idaho-coalition-for-safe-healthcare-strategic-planning-boise-id/
CATEGORIES:Work Schedule
END:VEVENT
BEGIN:VEVENT
DTSTART;VALUE=DATE:20250826
DTEND;VALUE=DATE:20250828
DTSTAMP:20260420T035024
CREATED:20250602T221741Z
LAST-MODIFIED:20250812T215432Z
UID:13416-1756166400-1756339199@inciteconsultinggroup.com
SUMMARY:Idaho Nonprofit Center Annual Conference (2025) - Boise\, ID
DESCRIPTION:Nonprofit leaders from across Boise are coming together for two days of connection\, learning\, and inspiration. Whether you’re just getting started or have years of experience\, this is a can’t-miss opportunity for your whole team! \nMore Info  |  Register
URL:https://inciteconsultinggroup.com/events/idaho-nonprofit-center-annual-conference-2025-boise-id/
CATEGORIES:Events
END:VEVENT
BEGIN:VEVENT
DTSTART;VALUE=DATE:20250828
DTEND;VALUE=DATE:20250829
DTSTAMP:20260420T035024
CREATED:20250710T124704Z
LAST-MODIFIED:20250819T020745Z
UID:13959-1756339200-1756425599@inciteconsultinggroup.com
SUMMARY:Regency Retirement Board Retreat - Laramie\, WY
DESCRIPTION:
URL:https://inciteconsultinggroup.com/events/regency-retirement-board-retreat-laramie-wy/
CATEGORIES:Events
END:VEVENT
BEGIN:VEVENT
DTSTART;TZID=America/Denver:20250904T130000
DTEND;TZID=America/Denver:20250904T150000
DTSTAMP:20260420T035024
CREATED:20250628T020358Z
LAST-MODIFIED:20250628T020538Z
UID:13831-1756990800-1756998000@inciteconsultinggroup.com
SUMMARY:Executive Director! Confab - Virtual
DESCRIPTION:Description \nIn partnership with 501 Commons\, over the course of five virtual meetings and a capstone in-person session\, we’ll explore topics such as self-care\, time management\, building a better relationship with your board\, fundraising\, succession planning\, and more.  \nDates: Sept. 4\, 18 | Oct. 2\, 16\, 30 | Nov. 13 – 14 \nTimes: 1:00 PM – 3:00 PM PST \nMore Info  |  Register
URL:https://inciteconsultinggroup.com/events/executive-director-confab-virtual/
LOCATION:Virtual
CATEGORIES:Webinars
END:VEVENT
BEGIN:VEVENT
DTSTART;TZID=America/Denver:20250910T110000
DTEND;TZID=America/Denver:20250910T120000
DTSTAMP:20260420T035024
CREATED:20250630T193625Z
LAST-MODIFIED:20250630T193625Z
UID:13849-1757502000-1757505600@inciteconsultinggroup.com
SUMMARY:Agility In The Fog: Leading Through Uncertainty - Virtual
DESCRIPTION:Join Kari Anderson of Incite! Consulting\, in partnership with Niche Academy\, for a practical\, energizing hour designed to help nonprofit leaders navigate change with clarity and confidence. You’ll learn actionable strategies to adapt your leadership style\, build trust with your team\, and foster resilience in your organization—no matter what challenges arise. Perfect for both new and seasoned leaders seeking to strengthen decision-making and inspire confidence during uncertain times. \nMore Info  |  Register
URL:https://inciteconsultinggroup.com/events/agility-in-the-fog-leading-through-uncertainty-virtual/
LOCATION:Virtual
CATEGORIES:Webinars
END:VEVENT
BEGIN:VEVENT
DTSTART;VALUE=DATE:20250912
DTEND;VALUE=DATE:20250913
DTSTAMP:20260420T035024
CREATED:20250602T222015Z
LAST-MODIFIED:20250602T222015Z
UID:13419-1757635200-1757721599@inciteconsultinggroup.com
SUMMARY:The Festival at Sandpoint Board Retreat Facilitation - Sandpoint\, ID
DESCRIPTION:
URL:https://inciteconsultinggroup.com/events/the-festival-at-sandpoint-board-retreat-facilitation-sandpoint-id/
CATEGORIES:Work Schedule
END:VEVENT
BEGIN:VEVENT
DTSTART;TZID=America/Los_Angeles:20250916T130000
DTEND;TZID=America/Los_Angeles:20250916T134500
DTSTAMP:20260420T035024
CREATED:20250808T221530Z
LAST-MODIFIED:20250808T222345Z
UID:14010-1758027600-1758030300@inciteconsultinggroup.com
SUMMARY:Succession Planning 101 - Virtual
DESCRIPTION:Description \nWhether you’re navigating an upcoming leadership transition or just trying to avoid a future scramble\, succession planning isn’t optional – it’s essential. This webinar offers a practical\, no-nonsense introduction to what healthy succession planning looks like for nonprofit organizations of all sizes. \nWe’ll cover: \n\nWhy succession planning isn’t just about the executive director\nHow to start (even if nothing’s urgent right now)\nBuilding a plan that includes staff\, board\, and stakeholders\nNavigating tough conversations with honesty and care\nTools and templates to help you get out of your head and into action\n\nJoin Us: Tuesday\, September 16 at 1 p.m. PT \nRegister
URL:https://inciteconsultinggroup.com/events/succession-planning-101-virtual/
LOCATION:Virtual
CATEGORIES:Webinars
END:VEVENT
BEGIN:VEVENT
DTSTART;VALUE=DATE:20250918
DTEND;VALUE=DATE:20250919
DTSTAMP:20260420T035024
CREATED:20250602T222333Z
LAST-MODIFIED:20250721T002144Z
UID:13421-1758153600-1758239999@inciteconsultinggroup.com
SUMMARY:Utah Nonprofits Association Annual Conference (2025) - Layton\, UT
DESCRIPTION:Description \nThe UNA Annual Conference packs a full day of engaging sessions and dynamic speakers—offering fresh perspectives and practical strategies to help nonprofits navigate challenges and meet evolving needs. \nMore Info  |  Register
URL:https://inciteconsultinggroup.com/events/utah-nonprofits-association-annual-conference-2025-layton-ut/
CATEGORIES:Events
END:VEVENT
BEGIN:VEVENT
DTSTART;TZID=America/Denver:20250918T130000
DTEND;TZID=America/Denver:20250918T150000
DTSTAMP:20260420T035024
CREATED:20250628T020840Z
LAST-MODIFIED:20250628T020840Z
UID:13835-1758200400-1758207600@inciteconsultinggroup.com
SUMMARY:Executive Director! Confab - Virtual
DESCRIPTION:Description \nIn partnership with 501 Commons\, over the course of five virtual meetings and a capstone in-person session\, we’ll explore topics such as self-care\, time management\, building a better relationship with your board\, fundraising\, succession planning\, and more.  \nDates: Sept. 4\, 18 | Oct. 2\, 16\, 30 | Nov. 13 – 14 \nTimes: 1:00 PM – 3:00 PM PST \nMore Info  |  Register
URL:https://inciteconsultinggroup.com/events/executive-director-confab-virtual-2/
LOCATION:Virtual
CATEGORIES:Webinars
END:VEVENT
BEGIN:VEVENT
DTSTART;VALUE=DATE:20250925
DTEND;VALUE=DATE:20250927
DTSTAMP:20260420T035024
CREATED:20250602T233526Z
LAST-MODIFIED:20250717T193330Z
UID:13425-1758758400-1758931199@inciteconsultinggroup.com
SUMMARY:Montana Nonprofit Association Annual Conference (2025) - Billings\, MT
DESCRIPTION:Description  \nThis year’s conference centers on the theme of Momentum\, aiming to equip nonprofit professionals with the tools and inspiration to drive their missions forward. Whether it’s enhancing team collaboration\, building adaptive organizations\, or fostering partnerships\, the conference seeks to be a catalyst for positive change. \nMore Info  |  Register
URL:https://inciteconsultinggroup.com/events/montana-nonprofit-association-annual-conference-2025-billings-mt/
CATEGORIES:Events
END:VEVENT
BEGIN:VEVENT
DTSTART;VALUE=DATE:20250927
DTEND;VALUE=DATE:20250928
DTSTAMP:20260420T035024
CREATED:20250602T233616Z
LAST-MODIFIED:20250602T233616Z
UID:13427-1758931200-1759017599@inciteconsultinggroup.com
SUMMARY:Pacific Northwest Ski Education Foundation Board Retreat Facilitation - Hood River\, OR
DESCRIPTION:
URL:https://inciteconsultinggroup.com/events/pacific-northwest-ski-education-foundation-board-retreat-facilitation-hood-river-or/
CATEGORIES:Work Schedule
END:VEVENT
BEGIN:VEVENT
DTSTART;TZID=America/Denver:20251002T130000
DTEND;TZID=America/Denver:20251002T150000
DTSTAMP:20260420T035024
CREATED:20250628T021129Z
LAST-MODIFIED:20250628T021129Z
UID:13837-1759410000-1759417200@inciteconsultinggroup.com
SUMMARY:Executive Director! Confab - Virtual
DESCRIPTION:Description \nIn partnership with 501 Commons\, over the course of five virtual meetings and a capstone in-person session\, we’ll explore topics such as self-care\, time management\, building a better relationship with your board\, fundraising\, succession planning\, and more.  \nDates: Sept. 4\, 18 | Oct. 2\, 16\, 30 | Nov. 13 – 14 \nTimes: 1:00 PM – 3:00 PM PST \nMore Info  |  Register
URL:https://inciteconsultinggroup.com/events/executive-director-confab-virtual-3/
LOCATION:Virtual
CATEGORIES:Webinars
END:VEVENT
BEGIN:VEVENT
DTSTART;TZID=America/Denver:20251016T130000
DTEND;TZID=America/Denver:20251016T150000
DTSTAMP:20260420T035024
CREATED:20250628T021313Z
LAST-MODIFIED:20250628T021313Z
UID:13839-1760619600-1760626800@inciteconsultinggroup.com
SUMMARY:Executive Director! Confab - Virtual
DESCRIPTION:Description \nIn partnership with 501 Commons\, over the course of five virtual meetings and a capstone in-person session\, we’ll explore topics such as self-care\, time management\, building a better relationship with your board\, fundraising\, succession planning\, and more.  \nDates: Sept. 4\, 18 | Oct. 2\, 16\, 30 | Nov. 13 – 14 \nTimes: 1:00 PM – 3:00 PM PST \nMore Info  |  Register
URL:https://inciteconsultinggroup.com/events/executive-director-confab-virtual-4/
LOCATION:Virtual
CATEGORIES:Webinars
END:VEVENT
BEGIN:VEVENT
DTSTART;VALUE=DATE:20251017
DTEND;VALUE=DATE:20251018
DTSTAMP:20260420T035024
CREATED:20250815T013723Z
LAST-MODIFIED:20250815T013723Z
UID:14017-1760659200-1760745599@inciteconsultinggroup.com
SUMMARY:Beyond Pink Board Retreat Facilitation - Spokane\, WA
DESCRIPTION:
URL:https://inciteconsultinggroup.com/events/beyond-pink-board-retreat-facilitation-spokane-wa/
CATEGORIES:Work Schedule
END:VEVENT
BEGIN:VEVENT
DTSTART;VALUE=DATE:20251020
DTEND;VALUE=DATE:20251022
DTSTAMP:20260420T035024
CREATED:20250815T014716Z
LAST-MODIFIED:20250815T014716Z
UID:14019-1760918400-1761091199@inciteconsultinggroup.com
SUMMARY:Nonprofit Association of Oregon Annual Conference - Portland\, OR
DESCRIPTION:Description \nThe inaugural Nonprofit Impact Conference brings together nonprofit leaders across the Pacific Northwest for two days of learning\, networking\, and inspiration. Interactive sessions\, workshops\, panels\, and networking activities will keep participants engaged and connected throughout the event. \nKeynote speaker Ann Mei Chang\, CEO of Candid and expert in social innovation with 20+ years at Google\, Apple\, and Intuit\, will share actionable strategies for nonprofits to innovate\, leverage data\, and maximize impact—even with limited resources. \nMore Info  |  Register
URL:https://inciteconsultinggroup.com/events/nonprofit-association-of-oregon-annual-conference-portland-or/
CATEGORIES:Events
END:VEVENT
BEGIN:VEVENT
DTSTART;VALUE=DATE:20251023
DTEND;VALUE=DATE:20251024
DTSTAMP:20260420T035024
CREATED:20250709T020749Z
LAST-MODIFIED:20250812T175837Z
UID:13864-1761177600-1761263999@inciteconsultinggroup.com
SUMMARY:2025 Education Summit  - Great Falls\, MT
DESCRIPTION:Description \nIn fund development\, success doesn’t come from sitting behind a desk waiting for donations to roll in. It comes from building genuine relationships\, navigating tough conversations\, and engaging donors and stakeholders with the energy and focus of a contact sport. \nIn partnership with AFP\, keynote speaker Kari Anderson will share practical insights at the 2025 Education Summit on how to move your fundraising efforts forward with confidence and clarity. \nThis year’s AFP Montana Annual Education Summit brings together nonprofit professionals from across the state to learn\, connect\, and grow. The theme—Fundraising Forward—focuses on future-ready strategies and adaptable approaches in today’s evolving fundraising landscape. \nMore Info  |  Register
URL:https://inciteconsultinggroup.com/events/2025-education-summit-great-falls-mt/
CATEGORIES:Events
END:VEVENT
BEGIN:VEVENT
DTSTART;VALUE=DATE:20251028
DTEND;VALUE=DATE:20251031
DTSTAMP:20260420T035024
CREATED:20250815T020032Z
LAST-MODIFIED:20250911T213544Z
UID:14021-1761609600-1761868799@inciteconsultinggroup.com
SUMMARY:Board Member Boot Camp - Virtual
DESCRIPTION:Description \nThis training clarifies the distinct roles and responsibilities of the Board of Directors and the Executive Director. Participants will leave with a stronger understanding of their tasks\, boundaries\, and what does—and does not—fall within their responsibility. \nIdeal for executive directors\, current board members\, and those considering joining a nonprofit board. \nDates: Tue\, Oct 28 – Thur\, Oct 30 \nTimes: 12:00 – 1:00 pm MT / 11:00 am – 12:00 pm PT \nMore Info  |  Register
URL:https://inciteconsultinggroup.com/events/board-member-boot-camp-virtual-2/
CATEGORIES:Webinars
END:VEVENT
BEGIN:VEVENT
DTSTART;TZID=America/Denver:20251030T130000
DTEND;TZID=America/Denver:20251030T150000
DTSTAMP:20260420T035024
CREATED:20250628T021530Z
LAST-MODIFIED:20250628T021530Z
UID:13841-1761829200-1761836400@inciteconsultinggroup.com
SUMMARY:Executive Director! Confab - Virtual
DESCRIPTION:Description \nIn partnership with 501 Commons\, over the course of five virtual meetings and a capstone in-person session\, we’ll explore topics such as self-care\, time management\, building a better relationship with your board\, fundraising\, succession planning\, and more.  \nDates: Sept. 4\, 18 | Oct. 2\, 16\, 30 | Nov. 13 – 14 \nTimes: 1:00 PM – 3:00 PM PST \nMore Info  |  Register
URL:https://inciteconsultinggroup.com/events/executive-director-confab-virtual-5/
LOCATION:Virtual
CATEGORIES:Webinars
END:VEVENT
BEGIN:VEVENT
DTSTART;VALUE=DATE:20251101
DTEND;VALUE=DATE:20251102
DTSTAMP:20260420T035024
CREATED:20250710T124825Z
LAST-MODIFIED:20250812T180041Z
UID:13963-1761955200-1762041599@inciteconsultinggroup.com
SUMMARY:Elevations Spokane Board Retreat - Spokane Valley\, WA
DESCRIPTION:
URL:https://inciteconsultinggroup.com/events/elevations-spokane-board-retreat-spokane-valley-wa/
CATEGORIES:Work Schedule
END:VEVENT
BEGIN:VEVENT
DTSTART;VALUE=DATE:20251113
DTEND;VALUE=DATE:20251114
DTSTAMP:20260420T035024
CREATED:20251002T004907Z
LAST-MODIFIED:20251002T004907Z
UID:14241-1762992000-1763078399@inciteconsultinggroup.com
SUMMARY:Downtown Driggs Association Board Retreat - Driggs\, ID
DESCRIPTION:
URL:https://inciteconsultinggroup.com/events/downtown-driggs-association-board-retreat-driggs-id/
CATEGORIES:Work Schedule
END:VEVENT
BEGIN:VEVENT
DTSTART;VALUE=DATE:20251113
DTEND;VALUE=DATE:20251115
DTSTAMP:20260420T035024
CREATED:20250710T124913Z
LAST-MODIFIED:20250812T180214Z
UID:13964-1762992000-1763164799@inciteconsultinggroup.com
SUMMARY:Executive Director Confab Capstone - Walla Walla\, WA
DESCRIPTION:
URL:https://inciteconsultinggroup.com/events/executive-director-confab-capstone-walla-walla-wa/
CATEGORIES:Work Schedule
END:VEVENT
BEGIN:VEVENT
DTSTART;TZID=UTC:20251119T100000
DTEND;TZID=UTC:20251119T120000
DTSTAMP:20260420T035024
CREATED:20250926T181542Z
LAST-MODIFIED:20250926T181622Z
UID:14235-1763546400-1763553600@inciteconsultinggroup.com
SUMMARY:Beyond the Bake Sale: Diversifying Your Nonprofit Revenue Mix
DESCRIPTION:Description\nThis workshop is designed specifically for nonprofit organizations looking to strengthen financial sustainability and move beyond traditional fundraising. Learn practical strategies to diversify revenue\, build resilience\, and increase your nonprofit’s impact. \nDate & Time: Nov 19th | 10:00 AM – 12:00 PM PST \nIn-Person Location: 3rd Floor Learning Studio\, 25 W. Main St.\, Spokane\, WA 99201\nZoom: option available \nCost: Free for SIMBA Nonprofit members | $15 for non-members \nRegistration: to secure your spot and get the Zoom link registration link below  \nMore Info  |  Register
URL:https://inciteconsultinggroup.com/events/beyond-the-bake-sale-diversifying-your-nonprofit-revenue-mix/
LOCATION:Virtual
CATEGORIES:Webinars
END:VEVENT
BEGIN:VEVENT
DTSTART;VALUE=DATE:20251124
DTEND;VALUE=DATE:20251209
DTSTAMP:20260420T035024
CREATED:20250815T020441Z
LAST-MODIFIED:20250815T020441Z
UID:14023-1763942400-1765238399@inciteconsultinggroup.com
SUMMARY:Prospective Client Visits - Vail\, CO
DESCRIPTION:
URL:https://inciteconsultinggroup.com/events/prospective-client-visits-vail-co/
CATEGORIES:Work Schedule
END:VEVENT
BEGIN:VEVENT
DTSTART;TZID=America/Los_Angeles:20251202T010000
DTEND;TZID=America/Los_Angeles:20251202T134500
DTSTAMP:20260420T035024
CREATED:20250808T222138Z
LAST-MODIFIED:20250808T222220Z
UID:14013-1764637200-1764683100@inciteconsultinggroup.com
SUMMARY:Finishing Your Fiscal Year Strong - Virtual
DESCRIPTION:Description\nAs the calendar year winds down\, many nonprofit leaders are juggling last-minute fundraising\, board expectations\, and a team running on fumes. This interactive session will help you pause\, assess where you are\, and make smart\, strategic choices to close out your fiscal year strong — while laying the groundwork for a focused\, energized start to 2025. \nWe’ll cover: \n\nWhat metrics to review now (and what to let go of)\nHow to finish your year-end fundraising without burnout\nLeading your team through the finish line with clarity and care\nStrategic planning moves you can start now — even if you’re not “ready”\nTools\, templates\, and a 60-minute planning sprint to get momentum\n\nJoin Us: Tuesday\, December 2 at 1 p.m. PT \nRegister
URL:https://inciteconsultinggroup.com/events/finishing-your-fiscal-year-strong-virtual/
CATEGORIES:Webinars
END:VEVENT
BEGIN:VEVENT
DTSTART;VALUE=DATE:20251208
DTEND;VALUE=DATE:20251210
DTSTAMP:20260420T035024
CREATED:20250819T020535Z
LAST-MODIFIED:20250819T020535Z
UID:14050-1765152000-1765324799@inciteconsultinggroup.com
SUMMARY:Expert Witness Testimony - Salt Lake City\, UT
DESCRIPTION:
URL:https://inciteconsultinggroup.com/events/expert-witness-testimony-salt-lake-city-ut/
CATEGORIES:Work Schedule
END:VEVENT
BEGIN:VEVENT
DTSTART;VALUE=DATE:20260106
DTEND;VALUE=DATE:20260112
DTSTAMP:20260420T035024
CREATED:20251219T202216Z
LAST-MODIFIED:20251219T202216Z
UID:14393-1767657600-1768175999@inciteconsultinggroup.com
SUMMARY:Client Meetings - Big Sky\, MT
DESCRIPTION:
URL:https://inciteconsultinggroup.com/events/client-meetings-big-sky-mt/
CATEGORIES:Work Schedule
END:VEVENT
END:VCALENDAR