BEGIN:VCALENDAR
VERSION:2.0
PRODID:-//Nonprofit Leadership Training - Incite Consulting Inc - ECPv6.15.10//NONSGML v1.0//EN
CALSCALE:GREGORIAN
METHOD:PUBLISH
X-WR-CALNAME:Nonprofit Leadership Training - Incite Consulting Inc
X-ORIGINAL-URL:https://inciteconsultinggroup.com
X-WR-CALDESC:Events for Nonprofit Leadership Training - Incite Consulting Inc
REFRESH-INTERVAL;VALUE=DURATION:PT1H
X-Robots-Tag:noindex
X-PUBLISHED-TTL:PT1H
BEGIN:VTIMEZONE
TZID:UTC
BEGIN:STANDARD
TZOFFSETFROM:+0000
TZOFFSETTO:+0000
TZNAME:UTC
DTSTART:20250101T000000
END:STANDARD
END:VTIMEZONE
BEGIN:VEVENT
DTSTART;VALUE=DATE:20260611
DTEND;VALUE=DATE:20260612
DTSTAMP:20260424T213708
CREATED:20251219T214326Z
LAST-MODIFIED:20260419T220523Z
UID:14417-1781136000-1781222399@inciteconsultinggroup.com
SUMMARY:Central Washington Conference for Greater Good - Toppenish\, WA
DESCRIPTION:Description \nThe Central Washington Conference for the Greater Good acknowledges the real headwinds nonprofit leaders are navigating and the resilience required to move through change. In 2026\, a Fire Horse year often associated with momentum and courageous action in uncertain times\, the conference centers on helping leaders move forward with clarity\, confidence\, and purpose. \nDesigned as a space to learn\, connect\, and be inspired\, the event supports nonprofit professionals in carrying momentum through transition while strengthening their leadership capacity. It also emphasizes building collective power rooted in equity\, strengthened through relationships\, and grounded in shared values to advance the communities nonprofits serve. \nGuided by shared purpose\, participants come together to turn service into meaningful action and build strength through unity. \nKey Dates/Times: June 11\, 2026  \nLocation: Heritage University 3240 Fort Rd. Toppenish\, WA 98948 \nMore Info  |  Register
URL:https://inciteconsultinggroup.com/events/central-washington-conference-for-greater-good-toppenish-wa-2/
CATEGORIES:Events
END:VEVENT
BEGIN:VEVENT
DTSTART;TZID=UTC:20260618T100000
DTEND;TZID=UTC:20260618T120000
DTSTAMP:20260424T213708
CREATED:20260226T013609Z
LAST-MODIFIED:20260419T210256Z
UID:14494-1781776800-1781784000@inciteconsultinggroup.com
SUMMARY:Spokane Independent Metro Business Association Nonprofit Training - Spokane\, WA
DESCRIPTION:Board Basics (Without the Boring Parts): What Every Nonprofit Board Needs to Handle Each Year \nDescription \nBoard service shouldn’t feel confusing or abstract\, yet many nonprofit leaders are never clearly shown what boards are actually responsible for. This interactive\, in-person session breaks down core board responsibilities in plain language: financial oversight\, executive support\, legal and ethical duties\, strategic direction\, and overall board effectiveness. \nParticipants will gain clarity on what boards are accountable for (and what falls outside their role)\, where boards tend to get stuck\, and how to focus limited time and energy on the work that creates real organizational impact. \nDesigned for both board members and nonprofit staff who work closely with boards\, this session is practical\, approachable\, and grounded in real-world governance\, not theory or jargon. \nDate: Thursday\, June 18\, 2026 \nTimes: 10:00 AM  12:00 PM \nLocation: 3rd Floor Classroom\, 25 West Main Ave.\, Spokane\, WA\, 99201 \nMore Info & Register
URL:https://inciteconsultinggroup.com/events/spokane-independent-metro-business-association-nonprofit-training-spokane-wa/
CATEGORIES:Events
END:VEVENT
END:VCALENDAR