BEGIN:VCALENDAR
VERSION:2.0
PRODID:-//Nonprofit Leadership Training - Incite Consulting Inc - ECPv6.15.10//NONSGML v1.0//EN
CALSCALE:GREGORIAN
METHOD:PUBLISH
X-ORIGINAL-URL:https://inciteconsultinggroup.com
X-WR-CALDESC:Events for Nonprofit Leadership Training - Incite Consulting Inc
REFRESH-INTERVAL;VALUE=DURATION:PT1H
X-Robots-Tag:noindex
X-PUBLISHED-TTL:PT1H
BEGIN:VTIMEZONE
TZID:UTC
BEGIN:STANDARD
TZOFFSETFROM:+0000
TZOFFSETTO:+0000
TZNAME:UTC
DTSTART:20250101T000000
END:STANDARD
END:VTIMEZONE
BEGIN:VTIMEZONE
TZID:America/Denver
BEGIN:DAYLIGHT
TZOFFSETFROM:-0700
TZOFFSETTO:-0600
TZNAME:MDT
DTSTART:20250309T090000
END:DAYLIGHT
BEGIN:STANDARD
TZOFFSETFROM:-0600
TZOFFSETTO:-0700
TZNAME:MST
DTSTART:20251102T080000
END:STANDARD
BEGIN:DAYLIGHT
TZOFFSETFROM:-0700
TZOFFSETTO:-0600
TZNAME:MDT
DTSTART:20260308T090000
END:DAYLIGHT
BEGIN:STANDARD
TZOFFSETFROM:-0600
TZOFFSETTO:-0700
TZNAME:MST
DTSTART:20261101T080000
END:STANDARD
BEGIN:DAYLIGHT
TZOFFSETFROM:-0700
TZOFFSETTO:-0600
TZNAME:MDT
DTSTART:20270314T090000
END:DAYLIGHT
BEGIN:STANDARD
TZOFFSETFROM:-0600
TZOFFSETTO:-0700
TZNAME:MST
DTSTART:20271107T080000
END:STANDARD
END:VTIMEZONE
BEGIN:VEVENT
DTSTART;TZID=UTC:20260429T100000
DTEND;TZID=UTC:20260429T113000
DTSTAMP:20260419T202018
CREATED:20251219T204706Z
LAST-MODIFIED:20260226T031228Z
UID:14403-1777456800-1777462200@inciteconsultinggroup.com
SUMMARY:Nonprofit Association of Oregon Webinar - Virtual
DESCRIPTION:Description \nManaging people isn’t as simple as having direct reports and hoping for the best. There’s both an art and a science to leading a team\, and most leaders were never formally trained in either. \nIn this session\, Kari Anderson\, Principal of Incite! Consulting\, explores how communication\, consistency\, and collaboration form the foundation of strong team leadership. Participants will gain practical strategies to improve employee satisfaction\, increase efficiency\, and strengthen retention while building a team culture that actually works. \nKey Dates/Times: April 29\, 2026 10:00 am to 11:30 am \nLocation: Online Event  \nMore Info  |  Register
URL:https://inciteconsultinggroup.com/events/nonprofit-association-of-oregon-webinar-virtual/
CATEGORIES:Webinars
END:VEVENT
BEGIN:VEVENT
DTSTART;TZID=UTC:20260506T110000
DTEND;TZID=UTC:20260506T120000
DTSTAMP:20260419T202018
CREATED:20251219T213603Z
LAST-MODIFIED:20260303T222704Z
UID:14405-1778065200-1778068800@inciteconsultinggroup.com
SUMMARY:Niche Academy/Incite! Consulting Webinar - Virtual
DESCRIPTION:Connect data and human experience to craft powerful narratives. \nImpact isn’t just about numbers. It’s about the lives you change and the stories that bring your mission to life. Join Kari Anderson for this storytelling-centered webinar exploring how to connect data and human experience to craft narratives that capture hearts\, spark action\, and deepen trust. \nLearn how to move beyond dry reports and transform outcomes into meaningful\, memorable stories that funders\, partners\, and community members cannot ignore. Through real-world examples and practical exercises\, you’ll gain tools to measure what matters\, find the story within your data\, and communicate impact in a way that inspires lasting support. \nIf you’re interested but unable to attend live\, register anyway. A recording will be shared with all registrants.  \nKey Dates/Times: Wed\, May 6\, 2026 at 11:00 AM PT / 2:00 PM ET \nLocation: Virtual  \nMore Info & Registration 
URL:https://inciteconsultinggroup.com/events/niche-academy-incite-consulting-webinar-virtual/
CATEGORIES:Webinars
END:VEVENT
BEGIN:VEVENT
DTSTART;TZID=UTC:20260507T080000
DTEND;TZID=UTC:20260507T170000
DTSTAMP:20260419T202018
CREATED:20260226T011220Z
LAST-MODIFIED:20260226T011255Z
UID:14487-1778140800-1778173200@inciteconsultinggroup.com
SUMMARY:SMART Transit Board Retreat - Moscow\, ID
DESCRIPTION:
URL:https://inciteconsultinggroup.com/events/smart-transit-board-retreat-moscow-id/
CATEGORIES:Work Schedule
END:VEVENT
BEGIN:VEVENT
DTSTART;VALUE=DATE:20260509
DTEND;VALUE=DATE:20260510
DTSTAMP:20260419T202018
CREATED:20251219T213723Z
LAST-MODIFIED:20251219T213723Z
UID:14407-1778284800-1778371199@inciteconsultinggroup.com
SUMMARY:Board Retreat Facilitation for Above and Beyond the ClassroomTeton Valley -  Driggs\, ID
DESCRIPTION:
URL:https://inciteconsultinggroup.com/events/board-retreat-facilitation-for-above-and-beyond-the-classroomteton-valley-driggs-id/
CATEGORIES:Work Schedule
END:VEVENT
BEGIN:VEVENT
DTSTART;TZID=UTC:20260511T080000
DTEND;TZID=UTC:20260511T170000
DTSTAMP:20260419T202018
CREATED:20251219T213839Z
LAST-MODIFIED:20260226T031402Z
UID:14409-1778486400-1778518800@inciteconsultinggroup.com
SUMMARY:Nonprofit Association of Washington Regional Conference - Tacoma\, WA
DESCRIPTION:Description \nThe 2026 Washington State Nonprofit Conference centers on the theme “Nonprofits Get It Done\,” celebrating the leaders\, staff\, and volunteers who strengthen communities across Washington every day. Inspired by the National Council of Nonprofits’ national campaign\, this year’s focus highlights the dedication\, resilience\, and creativity nonprofits bring to addressing the state’s most pressing challenges. \nWSNC serves as a gathering place for nonprofit leaders\, advocates\, and changemakers to connect\, learn\, and expand their impact. The conference offers an opportunity to engage with peers\, exchange ideas\, and be part of a statewide movement affirming the vital role nonprofits play in building thriving communities.  \nKey Dates/Times: May 11\, 2026 at 8:00 am – 5:00 pm  \nLocation: Regional WSNC Location – Tacoma\, WA \nMore Info  |  Register
URL:https://inciteconsultinggroup.com/events/nonprofit-association-of-washington-regional-conference-tacoma-wa/
CATEGORIES:Events
END:VEVENT
BEGIN:VEVENT
DTSTART;TZID=UTC:20260515T080000
DTEND;TZID=UTC:20260515T170000
DTSTAMP:20260419T202018
CREATED:20251219T213939Z
LAST-MODIFIED:20260226T031700Z
UID:14411-1778832000-1778864400@inciteconsultinggroup.com
SUMMARY:Nonprofit Association of Washington Regional Conference - Spokane\, WA
DESCRIPTION:Description \nThe 2026 Washington State Nonprofit Conference centers on the theme “Nonprofits Get It Done\,” celebrating the leaders\, staff\, and volunteers who strengthen communities across Washington every day. Inspired by the National Council of Nonprofits’ national campaign\, this year’s focus highlights the dedication\, resilience\, and creativity nonprofits bring to addressing the state’s most pressing challenges. \nWSNC serves as a gathering place for nonprofit leaders\, advocates\, and changemakers to connect\, learn\, and expand their impact. The conference offers an opportunity to engage with peers\, exchange ideas\, and be part of a statewide movement affirming the vital role nonprofits play in building thriving communities.  \nKey Dates/Times: May 15\, 2026 at 8:00 am – 5:00 pm  \nLocation: Regional WSNC Location – Spokane\, WA \nMore Info  |  Register
URL:https://inciteconsultinggroup.com/events/nonprofit-association-of-washington-regional-conference-spokane-wa/
CATEGORIES:Events
END:VEVENT
BEGIN:VEVENT
DTSTART;VALUE=DATE:20260519
DTEND;VALUE=DATE:20260522
DTSTAMP:20260419T202018
CREATED:20251219T214100Z
LAST-MODIFIED:20260226T032454Z
UID:14413-1779148800-1779407999@inciteconsultinggroup.com
SUMMARY:Wyoming Nonprofit Association Conference - Casper\, WY
DESCRIPTION:Description \nThe 2026 Wyoming Nonprofit Conference will take place May 19–21 at the Ramkota Hotel and Conference Center in Casper. Hosted by the Wyoming Nonprofit Network\, this year’s theme\, Louder Together: Strengthening the Voice and Impact of Wyoming Nonprofits\, focuses on the collective strength of nonprofit professionals and advocates across the state. \nThroughout Wyoming’s communities\, much of the nonprofit sector’s impact happens quietly through the dedication of staff\, volunteers\, and supporters. This conference highlights the importance of elevating that work and strengthening the shared voice of organizations committed to improving the lives of Wyomingites. Designed for those ready to learn\, connect\, and amplify their impact\, the event brings the sector together to build momentum and speak with greater clarity and confidence. \nKey Dates/Times: May 19 – 21\, 2026  \nLocation: Ramoka Hotel\, 800 N Poplar St\, Casper\, WY 82601 \nMore Info  |  Register
URL:https://inciteconsultinggroup.com/events/wyoming-nonprofit-association-conference-casper-wy/
CATEGORIES:Events
END:VEVENT
BEGIN:VEVENT
DTSTART;VALUE=DATE:20260521
DTEND;VALUE=DATE:20260523
DTSTAMP:20260419T202018
CREATED:20260226T011415Z
LAST-MODIFIED:20260226T011415Z
UID:14490-1779321600-1779494399@inciteconsultinggroup.com
SUMMARY:The George B. Storer Foundation Board Meeting - Jackson\, WY
DESCRIPTION:
URL:https://inciteconsultinggroup.com/events/the-george-b-storer-foundation-board-meeting-jackson-wy/
CATEGORIES:Work Schedule
END:VEVENT
BEGIN:VEVENT
DTSTART;TZID=UTC:20260527T110000
DTEND;TZID=UTC:20260527T120000
DTSTAMP:20260419T202018
CREATED:20260226T014127Z
LAST-MODIFIED:20260303T225516Z
UID:14496-1779879600-1779883200@inciteconsultinggroup.com
SUMMARY:Utah Nonprofits Association Webinar - Virtual
DESCRIPTION:The Board Member Starter Kit \nBoard service is more than attending meetings. In this fast-paced\, practical webinar\, Kari Anderson breaks down the five core responsibilities every nonprofit board member should understand to serve with confidence and make a meaningful impact. \nDesigned to be clear and engaging\, this session walks through the essential elements of strong nonprofit governance\, from fiduciary duties and fundraising to understanding the distinction between governance and management. Participants will explore what makes a board effective\, why composition matters\, and how to stay connected and aligned beyond the boardroom. \nWhether you’re new to board service or looking for a focused refresher\, you’ll leave with a stronger foundation and greater clarity about your role and responsibility. \nKey Dates/Times: May 27\, 2026 at 11:00 AM – 12:00 PM PT / 12:00 PM – 1:00 PM MT \nLocation: Virtual (Zoom) \nMore Info  |  Register
URL:https://inciteconsultinggroup.com/events/utah-nonprofits-association-webinar-virtual/
CATEGORIES:Webinars
END:VEVENT
BEGIN:VEVENT
DTSTART;TZID=America/Denver:20260604T160000
DTEND;TZID=America/Denver:20260604T173000
DTSTAMP:20260419T202018
CREATED:20260226T013439Z
LAST-MODIFIED:20260304T002413Z
UID:14492-1780588800-1780594200@inciteconsultinggroup.com
SUMMARY:Seniors West Of The Tetons Strategic Planning Town Hall -  Driggs\, ID
DESCRIPTION:
URL:https://inciteconsultinggroup.com/events/seniors-west-of-the-tetons-strategic-planning-town-hall-driggs-id-2/
CATEGORIES:Work Schedule
END:VEVENT
BEGIN:VEVENT
DTSTART;VALUE=DATE:20260609
DTEND;VALUE=DATE:20260612
DTSTAMP:20260419T202018
CREATED:20251219T214250Z
LAST-MODIFIED:20251219T214250Z
UID:14415-1780963200-1781222399@inciteconsultinggroup.com
SUMMARY:Idaho Nonprofit Center Board Member Boot Camp
DESCRIPTION:
URL:https://inciteconsultinggroup.com/events/idaho-nonprofit-center-board-member-boot-camp/
CATEGORIES:Events
END:VEVENT
BEGIN:VEVENT
DTSTART;VALUE=DATE:20260611
DTEND;VALUE=DATE:20260612
DTSTAMP:20260419T202018
CREATED:20251219T214326Z
LAST-MODIFIED:20260226T033330Z
UID:14417-1781136000-1781222399@inciteconsultinggroup.com
SUMMARY:Central Washington Conference for Greater Good - Toppenish\, WA
DESCRIPTION:Description \nThe Central Washington Conference for the Greater Good acknowledges the real headwinds nonprofit leaders are navigating and the resilience required to move through change. In 2026\, a Fire Horse year often associated with momentum and courageous action in uncertain times\, the conference centers on helping leaders move forward with clarity\, confidence\, and purpose. \nDesigned as a space to learn\, connect\, and be inspired\, the event supports nonprofit professionals in carrying momentum through transition while strengthening their leadership capacity. It also emphasizes building collective power rooted in equity\, strengthened through relationships\, and grounded in shared values to advance the communities nonprofits serve. \nGuided by shared purpose\, participants come together to turn service into meaningful action and build strength through unity. \nKey Dates/Times: June 11\, 2026  \nLocation: Heritage University 3240 Fort Rd. Toppenish\, WA 98948 \nMore Info  |  Register
URL:https://inciteconsultinggroup.com/events/central-washington-conference-for-greater-good-toppenish-wa-2/
CATEGORIES:Events
END:VEVENT
BEGIN:VEVENT
DTSTART;VALUE=DATE:20260618
DTEND;VALUE=DATE:20260619
DTSTAMP:20260419T202018
CREATED:20260226T013609Z
LAST-MODIFIED:20260226T013609Z
UID:14494-1781740800-1781827199@inciteconsultinggroup.com
SUMMARY:Spokane Independent Metro Business Association Nonprofit Training - Spokane\, WA
DESCRIPTION:
URL:https://inciteconsultinggroup.com/events/spokane-independent-metro-business-association-nonprofit-training-spokane-wa/
CATEGORIES:Work Schedule
END:VEVENT
END:VCALENDAR