BEGIN:VCALENDAR
VERSION:2.0
PRODID:-//Nonprofit Leadership Training - Incite Consulting Inc - ECPv6.15.10//NONSGML v1.0//EN
CALSCALE:GREGORIAN
METHOD:PUBLISH
X-ORIGINAL-URL:https://inciteconsultinggroup.com
X-WR-CALDESC:Events for Nonprofit Leadership Training - Incite Consulting Inc
REFRESH-INTERVAL;VALUE=DURATION:PT1H
X-Robots-Tag:noindex
X-PUBLISHED-TTL:PT1H
BEGIN:VTIMEZONE
TZID:America/Denver
BEGIN:DAYLIGHT
TZOFFSETFROM:-0700
TZOFFSETTO:-0600
TZNAME:MDT
DTSTART:20230312T090000
END:DAYLIGHT
BEGIN:STANDARD
TZOFFSETFROM:-0600
TZOFFSETTO:-0700
TZNAME:MST
DTSTART:20231105T080000
END:STANDARD
BEGIN:DAYLIGHT
TZOFFSETFROM:-0700
TZOFFSETTO:-0600
TZNAME:MDT
DTSTART:20240310T090000
END:DAYLIGHT
BEGIN:STANDARD
TZOFFSETFROM:-0600
TZOFFSETTO:-0700
TZNAME:MST
DTSTART:20241103T080000
END:STANDARD
BEGIN:DAYLIGHT
TZOFFSETFROM:-0700
TZOFFSETTO:-0600
TZNAME:MDT
DTSTART:20250309T090000
END:DAYLIGHT
BEGIN:STANDARD
TZOFFSETFROM:-0600
TZOFFSETTO:-0700
TZNAME:MST
DTSTART:20251102T080000
END:STANDARD
END:VTIMEZONE
BEGIN:VTIMEZONE
TZID:Africa/Abidjan
BEGIN:STANDARD
TZOFFSETFROM:+0000
TZOFFSETTO:+0000
TZNAME:GMT
DTSTART:20230101T000000
END:STANDARD
END:VTIMEZONE
BEGIN:VEVENT
DTSTART;TZID=America/Denver:20240604T130000
DTEND;TZID=America/Denver:20240604T133000
DTSTAMP:20260419T231216
CREATED:20240318T191203Z
LAST-MODIFIED:20240318T191203Z
UID:11735-1717506000-1717507800@inciteconsultinggroup.com
SUMMARY:Utah Nonprofits Association webinar
DESCRIPTION:Book Online : Click Here\nLocation: virtual
URL:https://inciteconsultinggroup.com/events/utah-nonprofits-association-webinar/
CATEGORIES:Webinars
END:VEVENT
BEGIN:VEVENT
DTSTART;TZID=America/Denver:20240601T130000
DTEND;TZID=America/Denver:20240601T133000
DTSTAMP:20260419T231216
CREATED:20240318T190957Z
LAST-MODIFIED:20240318T190957Z
UID:11736-1717246800-1717248600@inciteconsultinggroup.com
SUMMARY:Above and Beyond the Classroom strategic planning session
DESCRIPTION:Book Online : Click Here\nLocation: Driggs\, ID
URL:https://inciteconsultinggroup.com/events/above-and-beyond-the-classroom-strategic-planning-session/
CATEGORIES:Webinars
END:VEVENT
BEGIN:VEVENT
DTSTART;TZID=America/Denver:20240530T130000
DTEND;TZID=America/Denver:20240531T133000
DTSTAMP:20260419T231216
CREATED:20240318T185730Z
LAST-MODIFIED:20240318T185730Z
UID:11737-1717074000-1717162200@inciteconsultinggroup.com
SUMMARY:Montana Nonprofit Association leadership catalyst training
DESCRIPTION:Book Online : Click Here\nLocation: Fairmont\, MT
URL:https://inciteconsultinggroup.com/events/montana-nonprofit-association-leadership-catalyst-training/
CATEGORIES:Webinars
END:VEVENT
BEGIN:VEVENT
DTSTART;TZID=America/Denver:20240521T130000
DTEND;TZID=America/Denver:20240521T133000
DTSTAMP:20260419T231216
CREATED:20240318T184631Z
LAST-MODIFIED:20240318T184631Z
UID:11725-1716296400-1716298200@inciteconsultinggroup.com
SUMMARY:Bridger Bowl membership meeting
DESCRIPTION:Book Online : Click Here\nLocation: Bozeman\, MT
URL:https://inciteconsultinggroup.com/events/bridger-bowl-membership-meeting/
CATEGORIES:Webinars
END:VEVENT
BEGIN:VEVENT
DTSTART;TZID=America/Denver:20240516T140000
DTEND;TZID=America/Denver:20240516T150000
DTSTAMP:20260419T231216
CREATED:20240207T144427Z
LAST-MODIFIED:20240207T145101Z
UID:11524-1715868000-1715871600@inciteconsultinggroup.com
SUMMARY:Managing Teams
DESCRIPTION:Book Online : Click Here\nAbout Event:\nSo\, you’re lucky enough to have one or more staff working on your team\, and they report to you. Nothing to worry about\, right? Think again! There’s an art and science to managing people\, and most of us haven’t been trained on either. Turns out\, successfully managing teams is critical for employee satisfaction\, efficiency\, and retention. Join Kari Anderson\, Principal with Incite! Consulting\, to learn how communication\, consistency\, and collaboration can help you successfully manage your team. \nNAO is committed to creating inclusive learning environments and providing reasonable accommodations for individuals with disabilities. Automatic closed captioning via Zoom is turned on by default for all NAO virtual sessions. For other accommodation requests\, please contact us at training@nonprofitoregon.org. Advanced notice of at least 10 days is appreciated. \nThank You Funders\nThe Ford Family Foundation\, Meyer Memorial Trust\, and M.J. Murdock Charitable Trust. \nCost\n$20 for NAO Members\n$40 for Nonmembers
URL:https://inciteconsultinggroup.com/events/managing-teams/
CATEGORIES:Webinars
END:VEVENT
BEGIN:VEVENT
DTSTART;TZID=America/Denver:20240516T130000
DTEND;TZID=America/Denver:20240516T133000
DTSTAMP:20260419T231216
CREATED:20240318T184454Z
LAST-MODIFIED:20240318T184454Z
UID:11726-1715864400-1715866200@inciteconsultinggroup.com
SUMMARY:Nonprofit Association of OR webinar
DESCRIPTION:Book Online : Click Here\nLocation: virtual
URL:https://inciteconsultinggroup.com/events/nonprofit-association-of-or-webinar/
CATEGORIES:Webinars
END:VEVENT
BEGIN:VEVENT
DTSTART;TZID=Africa/Abidjan:20240514T130000
DTEND;TZID=Africa/Abidjan:20240516T133000
DTSTAMP:20260419T231216
CREATED:20240318T183822Z
LAST-MODIFIED:20240318T184138Z
UID:11721-1715691600-1715866200@inciteconsultinggroup.com
SUMMARY:Wyoming Nonprofit Network state conference
DESCRIPTION:Book Online : Click Here\nLocation: Casper\, WY
URL:https://inciteconsultinggroup.com/events/wyoming-nonprofit-network-state-conference/
CATEGORIES:Webinars
END:VEVENT
BEGIN:VEVENT
DTSTART;TZID=America/Denver:20240508T130000
DTEND;TZID=America/Denver:20240508T133000
DTSTAMP:20260419T231216
CREATED:20240318T183625Z
LAST-MODIFIED:20240318T183625Z
UID:11722-1715173200-1715175000@inciteconsultinggroup.com
SUMMARY:Community Foundation of Teton Valley Leadership Confab
DESCRIPTION:Book Online : Click Here\nLocation: Driggs\, ID
URL:https://inciteconsultinggroup.com/events/community-foundation-of-teton-valley-leadership-confab-3/
CATEGORIES:Webinars
END:VEVENT
BEGIN:VEVENT
DTSTART;TZID=America/Denver:20240502T130000
DTEND;TZID=America/Denver:20240503T133000
DTSTAMP:20260419T231216
CREATED:20240318T145506Z
LAST-MODIFIED:20240318T145506Z
UID:11718-1714654800-1714743000@inciteconsultinggroup.com
SUMMARY:501 Commons Executive Director Confab Capstone
DESCRIPTION:Book Online : Click Here\nLocation: Chelan\, WA
URL:https://inciteconsultinggroup.com/events/501-commons-executive-director-confab-capstone/
CATEGORIES:Webinars
END:VEVENT
BEGIN:VEVENT
DTSTART;TZID=America/Denver:20240427T130000
DTEND;TZID=America/Denver:20240427T133000
DTSTAMP:20260419T231216
CREATED:20240215T060913Z
LAST-MODIFIED:20240215T060913Z
UID:11629-1714222800-1714224600@inciteconsultinggroup.com
SUMMARY:The Yoga Source - strategic planning facilitation
DESCRIPTION:Book Online : Click Here\nLocation: Driggs\, ID
URL:https://inciteconsultinggroup.com/events/the-yoga-source-strategic-planning-facilitation/
CATEGORIES:Webinars
END:VEVENT
BEGIN:VEVENT
DTSTART;TZID=America/Denver:20240424T130000
DTEND;TZID=America/Denver:20240424T133000
DTSTAMP:20260419T231216
CREATED:20240215T060831Z
LAST-MODIFIED:20240215T060831Z
UID:11628-1713963600-1713965400@inciteconsultinggroup.com
SUMMARY:Community Foundation of Teton Valley leadership confab
DESCRIPTION:Book Online : Click Here\nLocation: Driggs\, ID
URL:https://inciteconsultinggroup.com/events/community-foundation-of-teton-valley-leadership-confab-2/
CATEGORIES:Webinars
END:VEVENT
BEGIN:VEVENT
DTSTART;TZID=America/Denver:20240422T130000
DTEND;TZID=America/Denver:20240422T133000
DTSTAMP:20260419T231216
CREATED:20240215T060719Z
LAST-MODIFIED:20240215T060719Z
UID:11627-1713790800-1713792600@inciteconsultinggroup.com
SUMMARY:Wyoming Association Skills USA future of leadership keynote
DESCRIPTION:Book Online : Click Here\nLocation: Casper\, WY
URL:https://inciteconsultinggroup.com/events/wyoming-association-skills-usa-future-of-leadership-keynote/
CATEGORIES:Webinars
END:VEVENT
BEGIN:VEVENT
DTSTART;TZID=America/Denver:20240420T130000
DTEND;TZID=America/Denver:20240420T133000
DTSTAMP:20260419T231216
CREATED:20240215T060555Z
LAST-MODIFIED:20240215T060555Z
UID:11626-1713618000-1713619800@inciteconsultinggroup.com
SUMMARY:Friends of the Alameda Free Library board retreat facilitation
DESCRIPTION:Book Online : Click Here\nLocation: Alameda\, CA
URL:https://inciteconsultinggroup.com/events/friends-of-the-alameda-free-library-board-retreat-facilitation/
CATEGORIES:Webinars
END:VEVENT
BEGIN:VEVENT
DTSTART;TZID=America/Denver:20240417T130000
DTEND;TZID=America/Denver:20240417T133000
DTSTAMP:20260419T231216
CREATED:20240215T060249Z
LAST-MODIFIED:20240215T060249Z
UID:11617-1713358800-1713360600@inciteconsultinggroup.com
SUMMARY:Center for a Vital Community “Spring Training” - fund raising training
DESCRIPTION:Book Online : Click Here\nLocation: Sheridan\, WY
URL:https://inciteconsultinggroup.com/events/center-for-a-vital-community-spring-training-fund-raising-training/
CATEGORIES:Webinars
END:VEVENT
BEGIN:VEVENT
DTSTART;TZID=America/Denver:20240411T130000
DTEND;TZID=America/Denver:20240411T133000
DTSTAMP:20260419T231216
CREATED:20240215T060154Z
LAST-MODIFIED:20240215T060154Z
UID:11616-1712840400-1712842200@inciteconsultinggroup.com
SUMMARY:Oregon Council for Behavioral Health board training
DESCRIPTION:Book Online : Click Here\nLocation: webinar
URL:https://inciteconsultinggroup.com/events/oregon-council-for-behavioral-health-board-training/
CATEGORIES:Webinars
END:VEVENT
BEGIN:VEVENT
DTSTART;TZID=America/Denver:20240407T130000
DTEND;TZID=America/Denver:20240409T133000
DTSTAMP:20260419T231216
CREATED:20240215T055903Z
LAST-MODIFIED:20240215T060056Z
UID:11615-1712494800-1712669400@inciteconsultinggroup.com
SUMMARY:Nonprofit Association of Oregon Leadership Conference keynote
DESCRIPTION:Book Online : Click Here\nLocation: Ashland\, OR
URL:https://inciteconsultinggroup.com/events/nonprofit-association-of-oregon-leadership-conference-keynote/
CATEGORIES:Webinars
END:VEVENT
BEGIN:VEVENT
DTSTART;TZID=America/Denver:20240405T130000
DTEND;TZID=America/Denver:20240405T133000
DTSTAMP:20260419T231216
CREATED:20240215T055739Z
LAST-MODIFIED:20240215T055739Z
UID:11614-1712322000-1712323800@inciteconsultinggroup.com
SUMMARY:Bridger Bowl Ski Area bylaw education and vision/mission ideation sessions
DESCRIPTION:Book Online : Click Here\nLocation: Bozeman\, MT
URL:https://inciteconsultinggroup.com/events/bridger-bowl-ski-area-bylaw-education-and-vision-mission-ideation-sessions-6/
CATEGORIES:Webinars
END:VEVENT
BEGIN:VEVENT
DTSTART;TZID=America/Denver:20240404T000000
DTEND;TZID=America/Denver:20240404T000000
DTSTAMP:20260419T231216
CREATED:20240215T055521Z
LAST-MODIFIED:20240318T144331Z
UID:11604-1712188800-1712188800@inciteconsultinggroup.com
SUMMARY:Bridger Bowl Ski Area bylaw education and vision/mission ideation sessions
DESCRIPTION:Book Online : Click Here\nLocation: Bozeman\, MT
URL:https://inciteconsultinggroup.com/events/bridger-bowl-ski-area-bylaw-education-and-vision-mission-ideation-sessions-5/
CATEGORIES:Webinars
END:VEVENT
BEGIN:VEVENT
DTSTART;TZID=America/Denver:20240403T130000
DTEND;TZID=America/Denver:20240403T133000
DTSTAMP:20260419T231216
CREATED:20240215T055421Z
LAST-MODIFIED:20240215T055421Z
UID:11603-1712149200-1712151000@inciteconsultinggroup.com
SUMMARY:Bridger Bowl Ski Area bylaw education and vision/mission ideation sessions
DESCRIPTION:Book Online : Click Here\nLocation: Bozeman\, MT
URL:https://inciteconsultinggroup.com/events/bridger-bowl-ski-area-bylaw-education-and-vision-mission-ideation-sessions-4/
CATEGORIES:Webinars
END:VEVENT
BEGIN:VEVENT
DTSTART;TZID=America/Denver:20240302T130000
DTEND;TZID=America/Denver:20240302T133000
DTSTAMP:20260419T231216
CREATED:20240215T055225Z
LAST-MODIFIED:20240215T055225Z
UID:11605-1709384400-1709386200@inciteconsultinggroup.com
SUMMARY:Bridger Bowl Ski Area bylaw education and vision/mission ideation sessions
DESCRIPTION:Book Online : Click Here\nLocation: Bozeman\, MT
URL:https://inciteconsultinggroup.com/events/bridger-bowl-ski-area-bylaw-education-and-vision-mission-ideation-sessions-3/
CATEGORIES:Webinars
END:VEVENT
BEGIN:VEVENT
DTSTART;TZID=America/Denver:20240301T130000
DTEND;TZID=America/Denver:20240301T133000
DTSTAMP:20260419T231216
CREATED:20240215T055059Z
LAST-MODIFIED:20240215T055059Z
UID:11606-1709298000-1709299800@inciteconsultinggroup.com
SUMMARY:Bridger Bowl Ski Area bylaw education and vision/mission ideation sessions
DESCRIPTION:Book Online : Click Here\nLocation: Bozeman\, MT
URL:https://inciteconsultinggroup.com/events/bridger-bowl-ski-area-bylaw-education-and-vision-mission-ideation-sessions-2/
CATEGORIES:Webinars
END:VEVENT
BEGIN:VEVENT
DTSTART;TZID=America/Denver:20240229T130000
DTEND;TZID=America/Denver:20240229T133000
DTSTAMP:20260419T231216
CREATED:20240215T054902Z
LAST-MODIFIED:20240215T123633Z
UID:11607-1709211600-1709213400@inciteconsultinggroup.com
SUMMARY:Bridger Bowl Ski Area bylaw education and vision/mission ideation sessions
DESCRIPTION:Book Online: Click Here\nLocation: Bozeman\, MT
URL:https://inciteconsultinggroup.com/events/bridger-bowl-ski-area-bylaw-education-and-vision-mission-ideation-sessions/
CATEGORIES:Webinars
END:VEVENT
BEGIN:VEVENT
DTSTART;TZID=America/Denver:20240228T130000
DTEND;TZID=America/Denver:20240228T133000
DTSTAMP:20260419T231216
CREATED:20240215T054630Z
LAST-MODIFIED:20240215T123645Z
UID:11602-1709125200-1709127000@inciteconsultinggroup.com
SUMMARY:Community Foundation of Teton Valley leadership confab
DESCRIPTION:Book Online: Click Here\nLocation: Driggs\, ID
URL:https://inciteconsultinggroup.com/events/community-foundation-of-teton-valley-leadership-confab/
CATEGORIES:Webinars
END:VEVENT
BEGIN:VEVENT
DTSTART;TZID=America/Denver:20240224T130000
DTEND;TZID=America/Denver:20240224T133000
DTSTAMP:20260419T231216
CREATED:20240214T180118Z
LAST-MODIFIED:20240215T123651Z
UID:11593-1708779600-1708781400@inciteconsultinggroup.com
SUMMARY:Columbia Basin Cancer Foundation board education session
DESCRIPTION:Book Online: Click Here\nLocation: Moses Lake\, WA
URL:https://inciteconsultinggroup.com/events/columbia-basin-cancer-foundation-board-education-session/
CATEGORIES:Webinars
END:VEVENT
BEGIN:VEVENT
DTSTART;TZID=America/Denver:20240220T130000
DTEND;TZID=America/Denver:20240220T133000
DTSTAMP:20260419T231216
CREATED:20240214T175740Z
LAST-MODIFIED:20240215T123657Z
UID:11591-1708434000-1708435800@inciteconsultinggroup.com
SUMMARY:Lake Chelan Wine Alliance board retreat
DESCRIPTION:Book Online: Click Here\nLocation: Manson\, WA
URL:https://inciteconsultinggroup.com/events/lake-chelan-wine-alliance-board-retreat/
CATEGORIES:Webinars
END:VEVENT
BEGIN:VEVENT
DTSTART;TZID=America/Denver:20240124T140000
DTEND;TZID=America/Denver:20240124T150000
DTSTAMP:20260419T231216
CREATED:20231118T050734Z
LAST-MODIFIED:20240109T171105Z
UID:9251-1706104800-1706108400@inciteconsultinggroup.com
SUMMARY:New Year\, New Opportunities Webinar
DESCRIPTION:Join Kari for an hour of Nonprofit Advice for the Coming Year.\nhttps://us02web.zoom.us/webinar/register/WN_TM2CH-hnTtuGoqP8cX67ZQ
URL:https://inciteconsultinggroup.com/events/new-year-new-opportunities-webinar/
CATEGORIES:Webinars
END:VEVENT
END:VCALENDAR