BEGIN:VCALENDAR
VERSION:2.0
PRODID:-//Nonprofit Leadership Training - Incite Consulting Inc - ECPv6.15.10//NONSGML v1.0//EN
CALSCALE:GREGORIAN
METHOD:PUBLISH
X-WR-CALNAME:Nonprofit Leadership Training - Incite Consulting Inc
X-ORIGINAL-URL:https://inciteconsultinggroup.com
X-WR-CALDESC:Events for Nonprofit Leadership Training - Incite Consulting Inc
REFRESH-INTERVAL;VALUE=DURATION:PT1H
X-Robots-Tag:noindex
X-PUBLISHED-TTL:PT1H
BEGIN:VTIMEZONE
TZID:UTC
BEGIN:STANDARD
TZOFFSETFROM:+0000
TZOFFSETTO:+0000
TZNAME:UTC
DTSTART:20240101T000000
END:STANDARD
END:VTIMEZONE
BEGIN:VEVENT
DTSTART;TZID=UTC:20250321T130000
DTEND;TZID=UTC:20250328T140000
DTSTAMP:20260419T154803
CREATED:20241224T174516Z
LAST-MODIFIED:20241224T174516Z
UID:12661-1742562000-1743170400@inciteconsultinggroup.com
SUMMARY:Prospective Client Meetings - Sun Valley\, ID
DESCRIPTION:Prospective client meetings in Sun Valley\, ID.
URL:https://inciteconsultinggroup.com/events/prospective-client-meetings-sun-valley-id/
CATEGORIES:Webinars
END:VEVENT
END:VCALENDAR