BEGIN:VCALENDAR
VERSION:2.0
PRODID:-//Nonprofit Leadership Training - Incite Consulting Inc - ECPv6.15.10//NONSGML v1.0//EN
CALSCALE:GREGORIAN
METHOD:PUBLISH
X-ORIGINAL-URL:https://inciteconsultinggroup.com
X-WR-CALDESC:Events for Nonprofit Leadership Training - Incite Consulting Inc
REFRESH-INTERVAL;VALUE=DURATION:PT1H
X-Robots-Tag:noindex
X-PUBLISHED-TTL:PT1H
BEGIN:VTIMEZONE
TZID:UTC
BEGIN:STANDARD
TZOFFSETFROM:+0000
TZOFFSETTO:+0000
TZNAME:UTC
DTSTART:20240101T000000
END:STANDARD
END:VTIMEZONE
BEGIN:VEVENT
DTSTART;TZID=UTC:20250226T130000
DTEND;TZID=UTC:20250226T140000
DTSTAMP:20260419T141518
CREATED:20241224T174519Z
LAST-MODIFIED:20241224T174519Z
UID:12654-1740574800-1740578400@inciteconsultinggroup.com
SUMMARY:Board Training on Risk Management - Virtual
DESCRIPTION:Conducting a board training on risk management for Shangri-La.
URL:https://inciteconsultinggroup.com/events/board-training-on-risk-management-virtual/
CATEGORIES:Webinars
END:VEVENT
END:VCALENDAR