BEGIN:VCALENDAR
VERSION:2.0
PRODID:-//Nonprofit Leadership Training - Incite Consulting Inc - ECPv6.15.10//NONSGML v1.0//EN
CALSCALE:GREGORIAN
METHOD:PUBLISH
X-WR-CALNAME:Nonprofit Leadership Training - Incite Consulting Inc
X-ORIGINAL-URL:https://inciteconsultinggroup.com
X-WR-CALDESC:Events for Nonprofit Leadership Training - Incite Consulting Inc
REFRESH-INTERVAL;VALUE=DURATION:PT1H
X-Robots-Tag:noindex
X-PUBLISHED-TTL:PT1H
BEGIN:VTIMEZONE
TZID:UTC
BEGIN:STANDARD
TZOFFSETFROM:+0000
TZOFFSETTO:+0000
TZNAME:UTC
DTSTART:20240101T000000
END:STANDARD
END:VTIMEZONE
BEGIN:VEVENT
DTSTART;TZID=UTC:20250105T130000
DTEND;TZID=UTC:20250108T140000
DTSTAMP:20260419T124455
CREATED:20241224T174522Z
LAST-MODIFIED:20241224T174522Z
UID:12642-1736082000-1736344800@inciteconsultinggroup.com
SUMMARY:Strategic Planning Interviews - Gillette\, WY
DESCRIPTION:Conducting strategic planning interviews for the Gillette College Foundation.
URL:https://inciteconsultinggroup.com/events/strategic-planning-interviews-gillette-wy/
CATEGORIES:Webinars
END:VEVENT
END:VCALENDAR