BEGIN:VCALENDAR
VERSION:2.0
PRODID:-//Nonprofit Leadership Training - Incite Consulting Inc - ECPv6.15.10//NONSGML v1.0//EN
CALSCALE:GREGORIAN
METHOD:PUBLISH
X-ORIGINAL-URL:https://inciteconsultinggroup.com
X-WR-CALDESC:Events for Nonprofit Leadership Training - Incite Consulting Inc
REFRESH-INTERVAL;VALUE=DURATION:PT1H
X-Robots-Tag:noindex
X-PUBLISHED-TTL:PT1H
BEGIN:VTIMEZONE
TZID:UTC
BEGIN:STANDARD
TZOFFSETFROM:+0000
TZOFFSETTO:+0000
TZNAME:UTC
DTSTART:20240101T000000
END:STANDARD
END:VTIMEZONE
BEGIN:VEVENT
DTSTART;TZID=UTC:20250305T130000
DTEND;TZID=UTC:20250306T140000
DTSTAMP:20260419T141025
CREATED:20241224T174519Z
LAST-MODIFIED:20241224T174519Z
UID:12655-1741179600-1741269600@inciteconsultinggroup.com
SUMMARY:Fund Development Workshop - Big Sky\, MT
DESCRIPTION:Conducting a fund development workshop for the Yellowstone Club Community Foundation.
URL:https://inciteconsultinggroup.com/events/fund-development-workshop-big-sky-mt/
CATEGORIES:Webinars
END:VEVENT
BEGIN:VEVENT
DTSTART;TZID=UTC:20250307T130000
DTEND;TZID=UTC:20250308T140000
DTSTAMP:20260419T141025
CREATED:20241224T174519Z
LAST-MODIFIED:20241224T174519Z
UID:12656-1741352400-1741442400@inciteconsultinggroup.com
SUMMARY:Strategic Planning - Gillette\, WY
DESCRIPTION:Strategic planning for the Gillette College Foundation.
URL:https://inciteconsultinggroup.com/events/strategic-planning-gillette-wy/
CATEGORIES:Webinars
END:VEVENT
BEGIN:VEVENT
DTSTART;TZID=UTC:20250311T130000
DTEND;TZID=UTC:20250311T140000
DTSTAMP:20260419T141025
CREATED:20241224T174518Z
LAST-MODIFIED:20241224T174518Z
UID:12657-1741698000-1741701600@inciteconsultinggroup.com
SUMMARY:Executive Director Training - Jackson\, WY
DESCRIPTION:Executive Director training in partnership with the Community Foundation of Jackson Hole.
URL:https://inciteconsultinggroup.com/events/executive-director-training-jackson-wy/
CATEGORIES:Webinars
END:VEVENT
BEGIN:VEVENT
DTSTART;TZID=UTC:20250312T130000
DTEND;TZID=UTC:20250312T140000
DTSTAMP:20260419T141025
CREATED:20241224T174518Z
LAST-MODIFIED:20241224T174518Z
UID:12658-1741784400-1741788000@inciteconsultinggroup.com
SUMMARY:ED Confab Session #3 - Virtual
DESCRIPTION:ED Confab session #3 in partnership with the Wyoming Nonprofit Network.
URL:https://inciteconsultinggroup.com/events/ed-confab-session-3-virtual/
CATEGORIES:Webinars
END:VEVENT
BEGIN:VEVENT
DTSTART;TZID=UTC:20250318T130000
DTEND;TZID=UTC:20250318T140000
DTSTAMP:20260419T141025
CREATED:20241224T174517Z
LAST-MODIFIED:20241224T174517Z
UID:12659-1742302800-1742306400@inciteconsultinggroup.com
SUMMARY:Succession Planning Presentation - Fort Hall\, ID
DESCRIPTION:Idaho Nonprofit Center Regional Conference presentation on succession planning for rural nonprofits.
URL:https://inciteconsultinggroup.com/events/succession-planning-presentation-fort-hall-id/
CATEGORIES:Webinars
END:VEVENT
BEGIN:VEVENT
DTSTART;TZID=UTC:20250319T130000
DTEND;TZID=UTC:20250319T140000
DTSTAMP:20260419T141025
CREATED:20241224T174517Z
LAST-MODIFIED:20241224T174517Z
UID:12660-1742389200-1742392800@inciteconsultinggroup.com
SUMMARY:Board Fundraising Training - Driggs\, ID
DESCRIPTION:Conducting a training on board fundraising responsibilities in partnership with the Community Foundation of Teton Valley.
URL:https://inciteconsultinggroup.com/events/board-fundraising-training-driggs-id/
CATEGORIES:Webinars
END:VEVENT
BEGIN:VEVENT
DTSTART;TZID=UTC:20250321T130000
DTEND;TZID=UTC:20250328T140000
DTSTAMP:20260419T141025
CREATED:20241224T174516Z
LAST-MODIFIED:20241224T174516Z
UID:12661-1742562000-1743170400@inciteconsultinggroup.com
SUMMARY:Prospective Client Meetings - Sun Valley\, ID
DESCRIPTION:Prospective client meetings in Sun Valley\, ID.
URL:https://inciteconsultinggroup.com/events/prospective-client-meetings-sun-valley-id/
CATEGORIES:Webinars
END:VEVENT
END:VCALENDAR