BEGIN:VCALENDAR
VERSION:2.0
PRODID:-//Nonprofit Leadership Training - Incite Consulting Inc - ECPv6.15.10//NONSGML v1.0//EN
CALSCALE:GREGORIAN
METHOD:PUBLISH
X-WR-CALNAME:Nonprofit Leadership Training - Incite Consulting Inc
X-ORIGINAL-URL:https://inciteconsultinggroup.com
X-WR-CALDESC:Events for Nonprofit Leadership Training - Incite Consulting Inc
REFRESH-INTERVAL;VALUE=DURATION:PT1H
X-Robots-Tag:noindex
X-PUBLISHED-TTL:PT1H
BEGIN:VTIMEZONE
TZID:UTC
BEGIN:STANDARD
TZOFFSETFROM:+0000
TZOFFSETTO:+0000
TZNAME:UTC
DTSTART:20240101T000000
END:STANDARD
END:VTIMEZONE
BEGIN:VEVENT
DTSTART;TZID=UTC:20250212T130000
DTEND;TZID=UTC:20250212T140000
DTSTAMP:20260419T123615
CREATED:20241224T174520Z
LAST-MODIFIED:20241224T174520Z
UID:12650-1739365200-1739368800@inciteconsultinggroup.com
SUMMARY:Fundraising Training - Boise\, ID
DESCRIPTION:Conducting a fundraising training for the Idaho Network of Children’s Advocacy Centers.
URL:https://inciteconsultinggroup.com/events/fundraising-training-boise-id/
CATEGORIES:Webinars
END:VEVENT
BEGIN:VEVENT
DTSTART;TZID=UTC:20250219T130000
DTEND;TZID=UTC:20250219T140000
DTSTAMP:20260419T123615
CREATED:20241224T174520Z
LAST-MODIFIED:20241224T174520Z
UID:12651-1739970000-1739973600@inciteconsultinggroup.com
SUMMARY:ED Confab Session #2 - Virtual
DESCRIPTION:ED Confab session #2 in partnership with the Wyoming Nonprofit Network.
URL:https://inciteconsultinggroup.com/events/ed-confab-session-2-virtual/
CATEGORIES:Webinars
END:VEVENT
BEGIN:VEVENT
DTSTART;TZID=UTC:20250220T130000
DTEND;TZID=UTC:20250220T140000
DTSTAMP:20260419T123615
CREATED:20241224T174520Z
LAST-MODIFIED:20241224T174520Z
UID:12652-1740056400-1740060000@inciteconsultinggroup.com
SUMMARY:Executive Director Training - Jackson\, WY
DESCRIPTION:Executive Director training in partnership with the Community Foundation of Jackson Hole.
URL:https://inciteconsultinggroup.com/events/executive-director-training-jackson-wy-2/
CATEGORIES:Webinars
END:VEVENT
BEGIN:VEVENT
DTSTART;TZID=UTC:20250222T130000
DTEND;TZID=UTC:20250222T140000
DTSTAMP:20260419T123615
CREATED:20241224T174520Z
LAST-MODIFIED:20241224T174520Z
UID:12653-1740229200-1740232800@inciteconsultinggroup.com
SUMMARY:Board Retreat - Moses Lake\, WA
DESCRIPTION:Facilitating a board retreat for the Columbia Basin Cancer Foundation.
URL:https://inciteconsultinggroup.com/events/board-retreat-moses-lake-wa/
CATEGORIES:Webinars
END:VEVENT
BEGIN:VEVENT
DTSTART;TZID=UTC:20250226T130000
DTEND;TZID=UTC:20250226T140000
DTSTAMP:20260419T123615
CREATED:20241224T174519Z
LAST-MODIFIED:20241224T174519Z
UID:12654-1740574800-1740578400@inciteconsultinggroup.com
SUMMARY:Board Training on Risk Management - Virtual
DESCRIPTION:Conducting a board training on risk management for Shangri-La.
URL:https://inciteconsultinggroup.com/events/board-training-on-risk-management-virtual/
CATEGORIES:Webinars
END:VEVENT
END:VCALENDAR