BEGIN:VCALENDAR
VERSION:2.0
PRODID:-//Nonprofit Leadership Training - Incite Consulting Inc - ECPv6.15.10//NONSGML v1.0//EN
CALSCALE:GREGORIAN
METHOD:PUBLISH
X-WR-CALNAME:Nonprofit Leadership Training - Incite Consulting Inc
X-ORIGINAL-URL:https://inciteconsultinggroup.com
X-WR-CALDESC:Events for Nonprofit Leadership Training - Incite Consulting Inc
REFRESH-INTERVAL;VALUE=DURATION:PT1H
X-Robots-Tag:noindex
X-PUBLISHED-TTL:PT1H
BEGIN:VTIMEZONE
TZID:UTC
BEGIN:STANDARD
TZOFFSETFROM:+0000
TZOFFSETTO:+0000
TZNAME:UTC
DTSTART:20250101T000000
END:STANDARD
END:VTIMEZONE
BEGIN:VEVENT
DTSTART;TZID=UTC:20260410T160000
DTEND;TZID=UTC:20260410T173000
DTSTAMP:20260424T162241
CREATED:20260226T010703Z
LAST-MODIFIED:20260226T010703Z
UID:14483-1775836800-1775842200@inciteconsultinggroup.com
SUMMARY:Seniors West Of The Tetons Strategic Planning Town Hall - Driggs\, ID
DESCRIPTION:
URL:https://inciteconsultinggroup.com/events/seniors-west-of-the-tetons-strategic-planning-town-hall-driggs-id/
CATEGORIES:Work Schedule
END:VEVENT
END:VCALENDAR